BEGIN:VCALENDAR
VERSION:2.0
PRODID:icalendar-ruby
CALSCALE:GREGORIAN
METHOD:PUBLISH
BEGIN:VEVENT
DTSTAMP:20260424T044638Z
UID:5-688434@gbcbak.org
DTSTART:20261101T183000Z
DTEND:20261101T193000Z
CLASS:PUBLIC
CREATED:20260423T193824
DESCRIPTION:Sunday Worship
LAST-MODIFIED:20260423T193824
LOCATION:
SUMMARY:Sunday Worship
URL;VALUE=URI:https://www.gbcbak.org/events/sunday-worship/2026-11-01
END:VEVENT
END:VCALENDAR
