BEGIN:VCALENDAR
VERSION:2.0
PRODID:icalendar-ruby
CALSCALE:GREGORIAN
METHOD:PUBLISH
BEGIN:VEVENT
DTSTAMP:20260423T180754Z
UID:5-686964@gbcbak.org
DTSTART:20260920T173000Z
DTEND:20260920T183000Z
CLASS:PUBLIC
CREATED:20260423T105458
DESCRIPTION:Sunday Worship
LAST-MODIFIED:20260423T105458
LOCATION:
SUMMARY:Sunday Worship
URL;VALUE=URI:https://www.gbcbak.org/events/sunday-worship/2026-09-20
END:VEVENT
END:VCALENDAR
